BEGIN:VCALENDAR
VERSION:2.0
PRODID:-//Reisebüro &amp; Bustouristik Lösch - ECPv5.14.0.4//NONSGML v1.0//EN
CALSCALE:GREGORIAN
METHOD:PUBLISH
X-WR-CALNAME:Reisebüro &amp; Bustouristik Lösch
X-ORIGINAL-URL:https://loesch-reisen.de
X-WR-CALDESC:Veranstaltungen für Reisebüro &amp; Bustouristik Lösch
BEGIN:VTIMEZONE
TZID:Europe/Berlin
BEGIN:DAYLIGHT
TZOFFSETFROM:+0100
TZOFFSETTO:+0200
TZNAME:CEST
DTSTART:20260329T010000
END:DAYLIGHT
BEGIN:STANDARD
TZOFFSETFROM:+0200
TZOFFSETTO:+0100
TZNAME:CET
DTSTART:20261025T010000
END:STANDARD
END:VTIMEZONE
BEGIN:VEVENT
DTSTART;VALUE=DATE:20260510
DTEND;VALUE=DATE:20260511
DTSTAMP:20260421T163329
CREATED:20260130T121703Z
LAST-MODIFIED:20260421T101444Z
UID:3821-1778371200-1778457599@loesch-reisen.de
SUMMARY:Felsengartenfahrt auf dem Neckar zum Muttertag - ausgebucht!
DESCRIPTION:Fahrt nach Marbach\, wo Sie die „MS Weinkönigin“ erwartet. Schifffahrt durch die Neckarschleife\, entlang der spektakulären Weinbergs-Steillagen. Auf dem Schiff sind sie zu einem zünftigen Mittagessen mit typisch schwäbischen Maultaschen und Kartoffelsalat eingeladen. Ausstieg im historischen Fachwerkstädtchen Besigheim\, Deutschlands schönstem Weinort. Gemeinsam mit unserem Stadtführer spazieren Sie durch den mittelalterlichen Ortskern\, es bleibt dann noch genügend Zeit für eine gemütliche Tasse Kaffee mit köstlichem Kuchen in der romantischen Altstadt. Rückfahrt durch den blühenden Kraichgau. \n„MS Weinkönigin“
URL:https://loesch-reisen.de/termin/felsengartenfahrt-auf-dem-neckar-zum-muttertag-ausgebucht/
CATEGORIES:Tagesfahrten
ATTACH;FMTTYPE=image/jpeg:https://loesch-reisen.de/wp-content/uploads/2026/01/Besigheim_Ansicht-mit-Steillagen-002.jpg
END:VEVENT
END:VCALENDAR